BEGIN:VCALENDAR
VERSION:2.0
PRODID:-//Racekarts! Inc. - ECPv6.15.20//NONSGML v1.0//EN
CALSCALE:GREGORIAN
METHOD:PUBLISH
X-WR-CALNAME:Racekarts! Inc.
X-ORIGINAL-URL:https://racekartsinc.com
X-WR-CALDESC:Events for Racekarts! Inc.
REFRESH-INTERVAL;VALUE=DURATION:PT1H
X-Robots-Tag:noindex
X-PUBLISHED-TTL:PT1H
BEGIN:VTIMEZONE
TZID:America/Los_Angeles
BEGIN:DAYLIGHT
TZOFFSETFROM:-0800
TZOFFSETTO:-0700
TZNAME:PDT
DTSTART:20250309T100000
END:DAYLIGHT
BEGIN:STANDARD
TZOFFSETFROM:-0700
TZOFFSETTO:-0800
TZNAME:PST
DTSTART:20251102T090000
END:STANDARD
BEGIN:DAYLIGHT
TZOFFSETFROM:-0800
TZOFFSETTO:-0700
TZNAME:PDT
DTSTART:20260308T100000
END:DAYLIGHT
BEGIN:STANDARD
TZOFFSETFROM:-0700
TZOFFSETTO:-0800
TZNAME:PST
DTSTART:20261101T090000
END:STANDARD
BEGIN:DAYLIGHT
TZOFFSETFROM:-0800
TZOFFSETTO:-0700
TZNAME:PDT
DTSTART:20270314T100000
END:DAYLIGHT
BEGIN:STANDARD
TZOFFSETFROM:-0700
TZOFFSETTO:-0800
TZNAME:PST
DTSTART:20271107T090000
END:STANDARD
END:VTIMEZONE
BEGIN:VEVENT
DTSTART;VALUE=DATE:20260422
DTEND;VALUE=DATE:20260423
DTSTAMP:20260423T095736
CREATED:20251220T005037Z
LAST-MODIFIED:20251220T005037Z
UID:2726-1776816000-1776902399@racekartsinc.com
SUMMARY:Intro. To Karting/Kart Rentals/ Coaching - Juniors/Teens/Adults - Sacramento Area
DESCRIPTION:Intro. To Karting/Kart Rentals/ Coaching – Juniors/Teens/Adults – Sacramento Area
URL:https://racekartsinc.com/class/intro-to-karting-kart-rentals-coaching-juniors-teens-adults-sacramento-area-042226/
LOCATION:Sacramento/Davis
ORGANIZER;CN="RaceKarts! Inc.":MAILTO:info@racekartsinc.com
END:VEVENT
END:VCALENDAR