BEGIN:VCALENDAR
VERSION:2.0
PRODID:-//Racekarts! Inc. - ECPv6.15.20//NONSGML v1.0//EN
CALSCALE:GREGORIAN
METHOD:PUBLISH
X-WR-CALNAME:Racekarts! Inc.
X-ORIGINAL-URL:https://racekartsinc.com
X-WR-CALDESC:Events for Racekarts! Inc.
REFRESH-INTERVAL;VALUE=DURATION:PT1H
X-Robots-Tag:noindex
X-PUBLISHED-TTL:PT1H
BEGIN:VTIMEZONE
TZID:America/Los_Angeles
BEGIN:DAYLIGHT
TZOFFSETFROM:-0800
TZOFFSETTO:-0700
TZNAME:PDT
DTSTART:20250309T100000
END:DAYLIGHT
BEGIN:STANDARD
TZOFFSETFROM:-0700
TZOFFSETTO:-0800
TZNAME:PST
DTSTART:20251102T090000
END:STANDARD
BEGIN:DAYLIGHT
TZOFFSETFROM:-0800
TZOFFSETTO:-0700
TZNAME:PDT
DTSTART:20260308T100000
END:DAYLIGHT
BEGIN:STANDARD
TZOFFSETFROM:-0700
TZOFFSETTO:-0800
TZNAME:PST
DTSTART:20261101T090000
END:STANDARD
BEGIN:DAYLIGHT
TZOFFSETFROM:-0800
TZOFFSETTO:-0700
TZNAME:PDT
DTSTART:20270314T100000
END:DAYLIGHT
BEGIN:STANDARD
TZOFFSETFROM:-0700
TZOFFSETTO:-0800
TZNAME:PST
DTSTART:20271107T090000
END:STANDARD
END:VTIMEZONE
BEGIN:VEVENT
DTSTART;VALUE=DATE:20260325
DTEND;VALUE=DATE:20260326
DTSTAMP:20260423T164039
CREATED:20251220T004611Z
LAST-MODIFIED:20251220T004611Z
UID:2716-1774396800-1774483199@racekartsinc.com
SUMMARY:Intro. To Karting/Kart Rentals/ Coaching - Juniors/Teens/Adults - Sacramento Area
DESCRIPTION:Intro. To Karting/Kart Rentals/ Coaching – Juniors/Teens/Adults – Sacramento Area
URL:https://racekartsinc.com/class/intro-to-karting-kart-rentals-coaching-juniors-teens-adults-sacramento-area-032526/
LOCATION:Sacramento/Davis
ORGANIZER;CN="RaceKarts! Inc.":MAILTO:info@racekartsinc.com
END:VEVENT
BEGIN:VEVENT
DTSTART;VALUE=DATE:20260401
DTEND;VALUE=DATE:20260402
DTSTAMP:20260423T164039
CREATED:20251220T004837Z
LAST-MODIFIED:20251220T004837Z
UID:2722-1775001600-1775087999@racekartsinc.com
SUMMARY:Intro. To Karting/Kart Rentals/ Coaching - Juniors/Teens/Adults - Sacramento Area
DESCRIPTION:Intro. To Karting/Kart Rentals/ Coaching – Juniors/Teens/Adults – Sacramento Area
URL:https://racekartsinc.com/class/intro-to-karting-kart-rentals-coaching-juniors-teens-adults-sacramento-area-040126/
LOCATION:Sacramento/Davis
ORGANIZER;CN="RaceKarts! Inc.":MAILTO:info@racekartsinc.com
END:VEVENT
BEGIN:VEVENT
DTSTART;VALUE=DATE:20260408
DTEND;VALUE=DATE:20260409
DTSTAMP:20260423T164039
CREATED:20251220T004903Z
LAST-MODIFIED:20251220T004903Z
UID:2721-1775606400-1775692799@racekartsinc.com
SUMMARY:Intro. To Karting/Kart Rentals/ Coaching - Juniors/Teens/Adults - Sacramento Area
DESCRIPTION:Intro. To Karting/Kart Rentals/ Coaching – Juniors/Teens/Adults – Sacramento Area
URL:https://racekartsinc.com/class/intro-to-karting-kart-rentals-coaching-juniors-teens-adults-sacramento-area-040826/
LOCATION:Sacramento/Davis
ORGANIZER;CN="RaceKarts! Inc.":MAILTO:info@racekartsinc.com
END:VEVENT
BEGIN:VEVENT
DTSTART;VALUE=DATE:20260415
DTEND;VALUE=DATE:20260416
DTSTAMP:20260423T164039
CREATED:20251220T005006Z
LAST-MODIFIED:20251220T005006Z
UID:2725-1776211200-1776297599@racekartsinc.com
SUMMARY:Intro. To Karting/Kart Rentals/ Coaching - Juniors/Teens/Adults - Sacramento Area
DESCRIPTION:Intro. To Karting/Kart Rentals/ Coaching – Juniors/Teens/Adults – Sacramento Area
URL:https://racekartsinc.com/class/intro-to-karting-kart-rentals-coaching-juniors-teens-adults-sacramento-area-041526/
LOCATION:Sacramento/Davis
ORGANIZER;CN="RaceKarts! Inc.":MAILTO:info@racekartsinc.com
END:VEVENT
BEGIN:VEVENT
DTSTART;VALUE=DATE:20260422
DTEND;VALUE=DATE:20260423
DTSTAMP:20260423T164039
CREATED:20251220T005037Z
LAST-MODIFIED:20251220T005037Z
UID:2726-1776816000-1776902399@racekartsinc.com
SUMMARY:Intro. To Karting/Kart Rentals/ Coaching - Juniors/Teens/Adults - Sacramento Area
DESCRIPTION:Intro. To Karting/Kart Rentals/ Coaching – Juniors/Teens/Adults – Sacramento Area
URL:https://racekartsinc.com/class/intro-to-karting-kart-rentals-coaching-juniors-teens-adults-sacramento-area-042226/
LOCATION:Sacramento/Davis
ORGANIZER;CN="RaceKarts! Inc.":MAILTO:info@racekartsinc.com
END:VEVENT
BEGIN:VEVENT
DTSTART;VALUE=DATE:20260429
DTEND;VALUE=DATE:20260430
DTSTAMP:20260423T164039
CREATED:20251220T005109Z
LAST-MODIFIED:20251220T005109Z
UID:2727-1777420800-1777507199@racekartsinc.com
SUMMARY:Intro. To Karting/Kart Rentals/ Coaching - Juniors/Teens/Adults - Sacramento Area
DESCRIPTION:Intro. To Karting/Kart Rentals/ Coaching – Juniors/Teens/Adults – Sacramento Area
URL:https://racekartsinc.com/class/intro-to-karting-kart-rentals-coaching-juniors-teens-adults-sacramento-area-042926/
LOCATION:Sacramento/Davis
ORGANIZER;CN="RaceKarts! Inc.":MAILTO:info@racekartsinc.com
END:VEVENT
BEGIN:VEVENT
DTSTART;VALUE=DATE:20260506
DTEND;VALUE=DATE:20260507
DTSTAMP:20260423T164039
CREATED:20251220T005145Z
LAST-MODIFIED:20251220T005145Z
UID:2728-1778025600-1778111999@racekartsinc.com
SUMMARY:Intro. To Karting/Kart Rentals/ Coaching - Juniors/Teens/Adults - Sacramento Area
DESCRIPTION:Intro. To Karting/Kart Rentals/ Coaching – Juniors/Teens/Adults – Sacramento Area
URL:https://racekartsinc.com/class/intro-to-karting-kart-rentals-coaching-juniors-teens-adults-sacramento-area-050626/
LOCATION:Sacramento/Davis
ORGANIZER;CN="RaceKarts! Inc.":MAILTO:info@racekartsinc.com
END:VEVENT
BEGIN:VEVENT
DTSTART;VALUE=DATE:20260513
DTEND;VALUE=DATE:20260514
DTSTAMP:20260423T164039
CREATED:20251220T005241Z
LAST-MODIFIED:20251220T005241Z
UID:2733-1778630400-1778716799@racekartsinc.com
SUMMARY:Intro. To Karting/Kart Rentals/ Coaching - Juniors/Teens/Adults - Sacramento Area
DESCRIPTION:Intro. To Karting/Kart Rentals/ Coaching – Juniors/Teens/Adults – Sacramento Area
URL:https://racekartsinc.com/class/intro-to-karting-kart-rentals-coaching-juniors-teens-adults-sacramento-area-051326/
LOCATION:Sacramento/Davis
ORGANIZER;CN="RaceKarts! Inc.":MAILTO:info@racekartsinc.com
END:VEVENT
BEGIN:VEVENT
DTSTART;VALUE=DATE:20260520
DTEND;VALUE=DATE:20260521
DTSTAMP:20260423T164039
CREATED:20251220T005312Z
LAST-MODIFIED:20251220T005312Z
UID:2734-1779235200-1779321599@racekartsinc.com
SUMMARY:Intro. To Karting/Kart Rentals/ Coaching - Juniors/Teens/Adults - Sacramento Area
DESCRIPTION:Intro. To Karting/Kart Rentals/ Coaching – Juniors/Teens/Adults – Sacramento Area
URL:https://racekartsinc.com/class/intro-to-karting-kart-rentals-coaching-juniors-teens-adults-sacramento-area-052026/
LOCATION:Sacramento/Davis
ORGANIZER;CN="RaceKarts! Inc.":MAILTO:info@racekartsinc.com
END:VEVENT
BEGIN:VEVENT
DTSTART;VALUE=DATE:20260527
DTEND;VALUE=DATE:20260528
DTSTAMP:20260423T164039
CREATED:20251220T005350Z
LAST-MODIFIED:20251220T005350Z
UID:2735-1779840000-1779926399@racekartsinc.com
SUMMARY:Intro. To Karting/Kart Rentals/ Coaching - Juniors/Teens/Adults - Sacramento Area
DESCRIPTION:Intro. To Karting/Kart Rentals/ Coaching – Juniors/Teens/Adults – Sacramento Area
URL:https://racekartsinc.com/class/intro-to-karting-kart-rentals-coaching-juniors-teens-adults-sacramento-area-052726/
LOCATION:Sacramento/Davis
ORGANIZER;CN="RaceKarts! Inc.":MAILTO:info@racekartsinc.com
END:VEVENT
END:VCALENDAR