BEGIN:VCALENDAR
VERSION:2.0
PRODID:-//Racekarts! Inc. - ECPv6.15.20//NONSGML v1.0//EN
CALSCALE:GREGORIAN
METHOD:PUBLISH
X-WR-CALNAME:Racekarts! Inc.
X-ORIGINAL-URL:https://racekartsinc.com
X-WR-CALDESC:Events for Racekarts! Inc.
REFRESH-INTERVAL;VALUE=DURATION:PT1H
X-Robots-Tag:noindex
X-PUBLISHED-TTL:PT1H
BEGIN:VTIMEZONE
TZID:America/Los_Angeles
BEGIN:DAYLIGHT
TZOFFSETFROM:-0800
TZOFFSETTO:-0700
TZNAME:PDT
DTSTART:20220313T100000
END:DAYLIGHT
BEGIN:STANDARD
TZOFFSETFROM:-0700
TZOFFSETTO:-0800
TZNAME:PST
DTSTART:20221106T090000
END:STANDARD
BEGIN:DAYLIGHT
TZOFFSETFROM:-0800
TZOFFSETTO:-0700
TZNAME:PDT
DTSTART:20230312T100000
END:DAYLIGHT
BEGIN:STANDARD
TZOFFSETFROM:-0700
TZOFFSETTO:-0800
TZNAME:PST
DTSTART:20231105T090000
END:STANDARD
BEGIN:DAYLIGHT
TZOFFSETFROM:-0800
TZOFFSETTO:-0700
TZNAME:PDT
DTSTART:20240310T100000
END:DAYLIGHT
BEGIN:STANDARD
TZOFFSETFROM:-0700
TZOFFSETTO:-0800
TZNAME:PST
DTSTART:20241103T090000
END:STANDARD
END:VTIMEZONE
BEGIN:VEVENT
DTSTART;VALUE=DATE:20231018
DTEND;VALUE=DATE:20231019
DTSTAMP:20260425T034116
CREATED:20220524T180012Z
LAST-MODIFIED:20230908T013437Z
UID:2063-1697587200-1697673599@racekartsinc.com
SUMMARY:Intro. To Karting/Kart Rentals/ Coaching – Juniors/Teens/Adults - Sacramento Area
DESCRIPTION:Intro. To Karting/Kart Rentals/ Coaching – Juniors/Teens/Adults – Sacramento Area
URL:https://racekartsinc.com/class/intro-to-karting-juniors-teens-adults-kart-rentals-coaching-sacramento-area-101823/
LOCATION:Sacramento/Davis
ORGANIZER;CN="RaceKarts! Inc.":MAILTO:info@racekartsinc.com
END:VEVENT
BEGIN:VEVENT
DTSTART;VALUE=DATE:20231014
DTEND;VALUE=DATE:20231016
DTSTAMP:20260425T034116
CREATED:20230325T164712Z
LAST-MODIFIED:20250423T000114Z
UID:1958-1697241600-1697414399@racekartsinc.com
SUMMARY:Teen Mazda Challenge - Sonoma Raceway
DESCRIPTION:Teen Mazda Challenge – Sonoma Raceway.
URL:https://racekartsinc.com/class/teen-mazda-challenge-sonoma-faceway-101423/
LOCATION:Sonoma Raceway\, CA\, United States
ORGANIZER;CN="RaceKarts! Inc.":MAILTO:info@racekartsinc.com
END:VEVENT
BEGIN:VEVENT
DTSTART;VALUE=DATE:20231011
DTEND;VALUE=DATE:20231012
DTSTAMP:20260425T034116
CREATED:20220524T180012Z
LAST-MODIFIED:20250423T000130Z
UID:2064-1696982400-1697068799@racekartsinc.com
SUMMARY:Intro. To Karting/Kart Rentals/ Coaching - Juniors/Teens/Adults - Sacramento Area
DESCRIPTION:Intro. To Karting/Kart Rentals/ Coaching – Juniors/Teens/Adults – Sacramento Area
URL:https://racekartsinc.com/class/intro-to-karting-juniors-teens-adults-kart-rentals-coaching-sacramento-area-101123/
LOCATION:Sacramento/Davis
ORGANIZER;CN="RaceKarts! Inc.":MAILTO:info@racekartsinc.com
END:VEVENT
BEGIN:VEVENT
DTSTART;VALUE=DATE:20231004
DTEND;VALUE=DATE:20231005
DTSTAMP:20260425T034116
CREATED:20220524T180012Z
LAST-MODIFIED:20250423T000147Z
UID:2060-1696377600-1696463999@racekartsinc.com
SUMMARY:Intro. To Karting/Kart Rentals/ Coaching - Juniors/Teens/Adults - Sacramento Area
DESCRIPTION:Intro. To Karting/Kart Rentals/ Coaching – Juniors/Teens/Adults – Sacramento Area
URL:https://racekartsinc.com/class/intro-to-karting-juniors-teens-adults-kart-rentals-coaching-sacramento-area-100423/
LOCATION:Sacramento/Davis
ORGANIZER;CN="RaceKarts! Inc.":MAILTO:info@racekartsinc.com
END:VEVENT
BEGIN:VEVENT
DTSTART;VALUE=DATE:20230927
DTEND;VALUE=DATE:20230928
DTSTAMP:20260425T034116
CREATED:20220524T180012Z
LAST-MODIFIED:20250423T000204Z
UID:2054-1695772800-1695859199@racekartsinc.com
SUMMARY:Intro. To Karting/Kart Rentals/ Coaching - Juniors/Teens/Adults - Sacramento Area
DESCRIPTION:Intro. To Karting/Kart Rentals/ Coaching – Juniors/Teens/Adults – Sacramento Area
URL:https://racekartsinc.com/class/intro-to-karting-juniors-teens-adults-kart-rentals-coaching-sacramento-area-092723/
LOCATION:Sacramento/Davis
ORGANIZER;CN="RaceKarts! Inc.":MAILTO:info@racekartsinc.com
END:VEVENT
BEGIN:VEVENT
DTSTART;VALUE=DATE:20230920
DTEND;VALUE=DATE:20230921
DTSTAMP:20260425T034116
CREATED:20220524T180012Z
LAST-MODIFIED:20250423T000221Z
UID:2055-1695168000-1695254399@racekartsinc.com
SUMMARY:Intro. To Karting/Kart Rentals/ Coaching - Juniors/Teens/Adults - Sacramento Area
DESCRIPTION:Intro. To Karting/Kart Rentals/ Coaching – Juniors/Teens/Adults – Sacramento Area
URL:https://racekartsinc.com/class/intro-to-karting-juniors-teens-adults-kart-rentals-coaching-sacramento-area-092027/
LOCATION:Sacramento/Davis
ORGANIZER;CN="RaceKarts! Inc.":MAILTO:info@racekartsinc.com
END:VEVENT
BEGIN:VEVENT
DTSTART;VALUE=DATE:20230913
DTEND;VALUE=DATE:20230914
DTSTAMP:20260425T034116
CREATED:20220524T180012Z
LAST-MODIFIED:20250423T000241Z
UID:2056-1694563200-1694649599@racekartsinc.com
SUMMARY:Intro. To Karting/Kart Rentals/ Coaching - Juniors/Teens/Adults - Sacramento Area
DESCRIPTION:Intro. To Karting/Kart Rentals/ Coaching – Juniors/Teens/Adults – Sacramento Area
URL:https://racekartsinc.com/class/intro-to-karting-juniors-teens-adults-kart-rentals-coaching-sacramento-area-091323/
LOCATION:Sacramento/Davis
ORGANIZER;CN="RaceKarts! Inc.":MAILTO:info@racekartsinc.com
END:VEVENT
BEGIN:VEVENT
DTSTART;VALUE=DATE:20230906
DTEND;VALUE=DATE:20230907
DTSTAMP:20260425T034116
CREATED:20220524T180012Z
LAST-MODIFIED:20250423T000256Z
UID:2052-1693958400-1694044799@racekartsinc.com
SUMMARY:Intro. To Karting/Kart Rentals/ Coaching - Juniors/Teens/Adults - Sacramento Area
DESCRIPTION:Intro. To Karting/Kart Rentals/ Coaching – Juniors/Teens/Adults – Sacramento Area
URL:https://racekartsinc.com/class/intro-to-karting-juniors-teens-adults-kart-rentals-coaching-sacramento-area-083023-2/
LOCATION:Sacramento/Davis
ORGANIZER;CN="RaceKarts! Inc.":MAILTO:info@racekartsinc.com
END:VEVENT
BEGIN:VEVENT
DTSTART;VALUE=DATE:20230830
DTEND;VALUE=DATE:20230831
DTSTAMP:20260425T034116
CREATED:20220524T180012Z
LAST-MODIFIED:20250423T000315Z
UID:1988-1693353600-1693439999@racekartsinc.com
SUMMARY:Intro. To Karting - Juniors/Teens/Adults - Kart Rentals/ Coaching - Sacramento Area
DESCRIPTION:Intro. To Karting – Juniors/Teens/Adults Kart Rentals/Coaching – Sacramento Area.
URL:https://racekartsinc.com/class/intro-to-karting-juniors-teens-adults-kart-rentals-coaching-sacramento-area-083023/
LOCATION:Sacramento/Davis
ORGANIZER;CN="RaceKarts! Inc.":MAILTO:info@racekartsinc.com
END:VEVENT
BEGIN:VEVENT
DTSTART;VALUE=DATE:20230823
DTEND;VALUE=DATE:20230824
DTSTAMP:20260425T034116
CREATED:20220524T180012Z
LAST-MODIFIED:20250423T000336Z
UID:1989-1692748800-1692835199@racekartsinc.com
SUMMARY:Intro. To Karting - Juniors/Teens/Adults - Kart Rentals/ Coaching - Sacramento Area
DESCRIPTION:Intro. To Karting – Juniors/Teens/Adults Kart Rentals/Coaching – Sacramento Area.
URL:https://racekartsinc.com/class/intro-to-karting-juniors-teens-adults-kart-rentals-coaching-sacramento-area-082323/
LOCATION:Sacramento/Davis
ORGANIZER;CN="RaceKarts! Inc.":MAILTO:info@racekartsinc.com
END:VEVENT
BEGIN:VEVENT
DTSTART;VALUE=DATE:20230819
DTEND;VALUE=DATE:20230821
DTSTAMP:20260425T034116
CREATED:20230325T164512Z
LAST-MODIFIED:20250423T000350Z
UID:1959-1692403200-1692575999@racekartsinc.com
SUMMARY:Teen Mazda Challenge - Sonoma Raceway
DESCRIPTION:Teen Mazda Challenge – Sonoma Raceway.
URL:https://racekartsinc.com/class/teen-mazda-challenge-sonoma-faceway-081923/
LOCATION:Sonoma Raceway\, CA\, United States
ORGANIZER;CN="RaceKarts! Inc.":MAILTO:info@racekartsinc.com
END:VEVENT
BEGIN:VEVENT
DTSTART;VALUE=DATE:20230816
DTEND;VALUE=DATE:20230817
DTSTAMP:20260425T034116
CREATED:20220524T180012Z
LAST-MODIFIED:20250423T000410Z
UID:1990-1692144000-1692230399@racekartsinc.com
SUMMARY:Intro. To Karting - Juniors/Teens/Adults - Kart Rentals/ Coaching - Sacramento Area
DESCRIPTION:Intro. To Karting – Juniors/Teens/Adults Kart Rentals/Coaching – Sacramento Area.
URL:https://racekartsinc.com/class/intro-to-karting-juniors-teens-adults-kart-rentals-coaching-sacramento-area-081623/
LOCATION:Sacramento/Davis
ORGANIZER;CN="RaceKarts! Inc.":MAILTO:info@racekartsinc.com
END:VEVENT
BEGIN:VEVENT
DTSTART;VALUE=DATE:20230809
DTEND;VALUE=DATE:20230810
DTSTAMP:20260425T034116
CREATED:20220524T180012Z
LAST-MODIFIED:20250423T000433Z
UID:1997-1691539200-1691625599@racekartsinc.com
SUMMARY:Intro. To Karting - Juniors/Teens/Adults - Kart Rentals/ Coaching - Sacramento Area
DESCRIPTION:Intro. To Karting – Juniors/Teens/Adults Kart Rentals/Coaching – Sacramento Area.
URL:https://racekartsinc.com/class/intro-to-karting-juniors-teens-adults-kart-rentals-coaching-sacramento-area-080923/
LOCATION:Sacramento/Davis
ORGANIZER;CN="RaceKarts! Inc.":MAILTO:info@racekartsinc.com
END:VEVENT
BEGIN:VEVENT
DTSTART;VALUE=DATE:20230802
DTEND;VALUE=DATE:20230803
DTSTAMP:20260425T034116
CREATED:20220524T180012Z
LAST-MODIFIED:20250423T000448Z
UID:1998-1690934400-1691020799@racekartsinc.com
SUMMARY:Intro. To Karting - Juniors/Teens/Adults - Kart Rentals/ Coaching - Sacramento Area
DESCRIPTION:Intro. To Karting – Juniors/Teens/Adults Kart Rentals/Coaching – Sacramento Area.
URL:https://racekartsinc.com/class/intro-to-karting-juniors-teens-adults-kart-rentals-coaching-sacramento-area-080223/
LOCATION:Sacramento/Davis
ORGANIZER;CN="RaceKarts! Inc.":MAILTO:info@racekartsinc.com
END:VEVENT
BEGIN:VEVENT
DTSTART;VALUE=DATE:20230726
DTEND;VALUE=DATE:20230727
DTSTAMP:20260425T034116
CREATED:20220524T180012Z
LAST-MODIFIED:20250423T000504Z
UID:1991-1690329600-1690415999@racekartsinc.com
SUMMARY:Intro. To Karting - Juniors/Teens/Adults - Kart Rentals/ Coaching - Sacramento Area
DESCRIPTION:Intro. To Karting – Juniors/Teens/Adults Kart Rentals/Coaching – Sacramento Area.
URL:https://racekartsinc.com/class/intro-to-karting-juniors-teens-adults-kart-rentals-coaching-sacramento-area-072623/
LOCATION:Sacramento/Davis
ORGANIZER;CN="RaceKarts! Inc.":MAILTO:info@racekartsinc.com
END:VEVENT
BEGIN:VEVENT
DTSTART;VALUE=DATE:20230719
DTEND;VALUE=DATE:20230720
DTSTAMP:20260425T034116
CREATED:20220524T180012Z
LAST-MODIFIED:20250423T000519Z
UID:1992-1689724800-1689811199@racekartsinc.com
SUMMARY:Intro. To Karting - Juniors/Teens/Adults - Kart Rentals/ Coaching - Sacramento Area
DESCRIPTION:Intro. To Karting – Juniors/Teens/Adults Kart Rentals/Coaching – Sacramento Area.
URL:https://racekartsinc.com/class/intro-to-karting-juniors-teens-adults-kart-rentals-coaching-sacramento-area-071923/
LOCATION:Sacramento/Davis
ORGANIZER;CN="RaceKarts! Inc.":MAILTO:info@racekartsinc.com
END:VEVENT
BEGIN:VEVENT
DTSTART;VALUE=DATE:20230712
DTEND;VALUE=DATE:20230713
DTSTAMP:20260425T034116
CREATED:20220524T180012Z
LAST-MODIFIED:20250423T000540Z
UID:1993-1689120000-1689206399@racekartsinc.com
SUMMARY:Intro. To Karting - Juniors/Teens/Adults - Kart Rentals/ Coaching - Sacramento Area
DESCRIPTION:Intro. To Karting – Juniors/Teens/Adults Kart Rentals/Coaching – Sacramento Area.
URL:https://racekartsinc.com/class/intro-to-karting-juniors-teens-adults-kart-rentals-coaching-sacramento-area-071223/
LOCATION:Sacramento/Davis
ORGANIZER;CN="RaceKarts! Inc.":MAILTO:info@racekartsinc.com
END:VEVENT
BEGIN:VEVENT
DTSTART;VALUE=DATE:20230628
DTEND;VALUE=DATE:20230629
DTSTAMP:20260425T034116
CREATED:20220524T180012Z
LAST-MODIFIED:20250423T000558Z
UID:1948-1687910400-1687996799@racekartsinc.com
SUMMARY:Intro. To Karting - Juniors/Teens/Adults - Kart Rentals/ Coaching - Sacramento Area
DESCRIPTION:Intro. To Karting – Juniors/Teens/Adults Kart Rentals/Coaching – Sacramento Area.
URL:https://racekartsinc.com/class/intro-to-karting-juniors-teens-adults-kart-rentals-coaching-sacramento-area-062823/
LOCATION:Sacramento/Davis
ORGANIZER;CN="RaceKarts! Inc.":MAILTO:info@racekartsinc.com
END:VEVENT
BEGIN:VEVENT
DTSTART;VALUE=DATE:20230624
DTEND;VALUE=DATE:20230626
DTSTAMP:20260425T034116
CREATED:20230325T164312Z
LAST-MODIFIED:20250423T000614Z
UID:1960-1687564800-1687737599@racekartsinc.com
SUMMARY:Teen Mazda Challenge - Sonoma Raceway
DESCRIPTION:Teen Mazda Challenge – Sonoma Raceway.
URL:https://racekartsinc.com/class/teen-mazda-challenge-sonoma-faceway-062423/
LOCATION:Sonoma Raceway\, CA\, United States
ORGANIZER;CN="RaceKarts! Inc.":MAILTO:info@racekartsinc.com
END:VEVENT
BEGIN:VEVENT
DTSTART;VALUE=DATE:20230621
DTEND;VALUE=DATE:20230622
DTSTAMP:20260425T034116
CREATED:20220524T180012Z
LAST-MODIFIED:20250423T000755Z
UID:1949-1687305600-1687391999@racekartsinc.com
SUMMARY:Intro. To Karting - Juniors/Teens/Adults - Kart Rentals/ Coaching - Sacramento Area
DESCRIPTION:Intro. To Karting – Juniors/Teens/Adults Kart Rentals/Coaching – Sacramento Area.
URL:https://racekartsinc.com/class/intro-to-karting-juniors-teens-adults-kart-rentals-coaching-sacramento-area-062123/
LOCATION:Sacramento/Davis
ORGANIZER;CN="RaceKarts! Inc.":MAILTO:info@racekartsinc.com
END:VEVENT
BEGIN:VEVENT
DTSTART;VALUE=DATE:20230614
DTEND;VALUE=DATE:20230615
DTSTAMP:20260425T034116
CREATED:20220524T180012Z
LAST-MODIFIED:20250423T000817Z
UID:1950-1686700800-1686787199@racekartsinc.com
SUMMARY:Intro. To Karting - Juniors/Teens/Adults - Kart Rentals/ Coaching - Sacramento Area
DESCRIPTION:Intro. To Karting – Juniors/Teens/Adults Kart Rentals/Coaching – Sacramento Area.
URL:https://racekartsinc.com/class/intro-to-karting-juniors-teens-adults-kart-rentals-coaching-sacramento-area-061423/
LOCATION:Sacramento/Davis
ORGANIZER;CN="RaceKarts! Inc.":MAILTO:info@racekartsinc.com
END:VEVENT
BEGIN:VEVENT
DTSTART;VALUE=DATE:20230607
DTEND;VALUE=DATE:20230608
DTSTAMP:20260425T034116
CREATED:20220524T180012Z
LAST-MODIFIED:20250423T000835Z
UID:1946-1686096000-1686182399@racekartsinc.com
SUMMARY:Intro. To Karting - Juniors/Teens/Adults - Kart Rentals/ Coaching - Sacramento Area
DESCRIPTION:Intro. To Karting – Juniors/Teens/Adults Kart Rentals/Coaching – Sacramento Area.
URL:https://racekartsinc.com/class/intro-to-karting-juniors-teens-adults-kart-rentals-coaching-sacramento-area-060723/
LOCATION:Sacramento/Davis
ORGANIZER;CN="RaceKarts! Inc.":MAILTO:info@racekartsinc.com
END:VEVENT
BEGIN:VEVENT
DTSTART;VALUE=DATE:20230531
DTEND;VALUE=DATE:20230601
DTSTAMP:20260425T034116
CREATED:20220524T180012Z
LAST-MODIFIED:20250423T000850Z
UID:1938-1685491200-1685577599@racekartsinc.com
SUMMARY:Intro. To Karting - Juniors/Teens/Adults - Kart Rentals/ Coaching - Sacramento Area
DESCRIPTION:Intro. To Karting – Juniors/Teens/Adults Kart Rentals/Coaching – Sacramento Area.
URL:https://racekartsinc.com/class/intro-to-karting-juniors-teens-adults-kart-rentals-coaching-sacramento-area-053123/
LOCATION:Sacramento/Davis
ORGANIZER;CN="RaceKarts! Inc.":MAILTO:info@racekartsinc.com
END:VEVENT
BEGIN:VEVENT
DTSTART;VALUE=DATE:20230524
DTEND;VALUE=DATE:20230525
DTSTAMP:20260425T034116
CREATED:20220524T180012Z
LAST-MODIFIED:20250423T001048Z
UID:1939-1684886400-1684972799@racekartsinc.com
SUMMARY:Intro. To Karting - Juniors/Teens/Adults - Kart Rentals/ Coaching - Sacramento Area
DESCRIPTION:Intro. To Karting – Juniors/Teens/Adults Kart Rentals/Coaching – Sacramento Area.
URL:https://racekartsinc.com/class/intro-to-karting-juniors-teens-adults-kart-rentals-coaching-sacramento-area-052423/
LOCATION:Sacramento/Davis
ORGANIZER;CN="RaceKarts! Inc.":MAILTO:info@racekartsinc.com
END:VEVENT
BEGIN:VEVENT
DTSTART;VALUE=DATE:20230519
DTEND;VALUE=DATE:20230521
DTSTAMP:20260425T034116
CREATED:20230325T164212Z
LAST-MODIFIED:20250423T001033Z
UID:1956-1684454400-1684627199@racekartsinc.com
SUMMARY:Teen Mazda Challenge - Sonoma Raceway
DESCRIPTION:Teen Mazda Challenge – Sonoma Raceway.
URL:https://racekartsinc.com/class/teen-mazda-challenge-sonoma-faceway-051923/
LOCATION:Sonoma Raceway\, CA\, United States
ORGANIZER;CN="RaceKarts! Inc.":MAILTO:info@racekartsinc.com
END:VEVENT
BEGIN:VEVENT
DTSTART;VALUE=DATE:20230517
DTEND;VALUE=DATE:20230518
DTSTAMP:20260425T034116
CREATED:20220524T180012Z
LAST-MODIFIED:20250423T001016Z
UID:1940-1684281600-1684367999@racekartsinc.com
SUMMARY:Intro. To Karting - Juniors/Teens/Adults - Kart Rentals/ Coaching - Sacramento Area
DESCRIPTION:Intro. To Karting – Juniors/Teens/Adults Kart Rentals/Coaching – Sacramento Area.
URL:https://racekartsinc.com/class/intro-to-karting-juniors-teens-adults-kart-rentals-coaching-sacramento-area-051723/
LOCATION:Sacramento/Davis
ORGANIZER;CN="RaceKarts! Inc.":MAILTO:info@racekartsinc.com
END:VEVENT
BEGIN:VEVENT
DTSTART;VALUE=DATE:20230510
DTEND;VALUE=DATE:20230511
DTSTAMP:20260425T034116
CREATED:20220524T180012Z
LAST-MODIFIED:20250423T001000Z
UID:1941-1683676800-1683763199@racekartsinc.com
SUMMARY:Intro. To Karting - Juniors/Teens/Adults - Kart Rentals/ Coaching - Sacramento Area
DESCRIPTION:Intro. To Karting – Juniors/Teens/Adults Kart Rentals/Coaching – Sacramento Area.
URL:https://racekartsinc.com/class/intro-to-karting-juniors-teens-adults-kart-rentals-coaching-sacramento-area-051023/
LOCATION:Sacramento/Davis
ORGANIZER;CN="RaceKarts! Inc.":MAILTO:info@racekartsinc.com
END:VEVENT
BEGIN:VEVENT
DTSTART;VALUE=DATE:20230503
DTEND;VALUE=DATE:20230504
DTSTAMP:20260425T034116
CREATED:20220524T180012Z
LAST-MODIFIED:20230319T194826Z
UID:1934-1683072000-1683158399@racekartsinc.com
SUMMARY:Intro. To Karting - Juniors/Teens/Adults - Kart Rentals/ Coaching – Sacramento Area
DESCRIPTION:Intro. To Karting – Juniors/Teens/Adults Kart Rentals/Coaching – Sacramento Area.
URL:https://racekartsinc.com/class/intro-to-karting-juniors-teens-adults-kart-rentals-coaching-sacramento-area-050323/
LOCATION:Sacramento/Davis
ORGANIZER;CN="RaceKarts! Inc.":MAILTO:info@racekartsinc.com
END:VEVENT
BEGIN:VEVENT
DTSTART;VALUE=DATE:20230429
DTEND;VALUE=DATE:20230501
DTSTAMP:20260425T034116
CREATED:20230325T164012Z
LAST-MODIFIED:20250423T001642Z
UID:1954-1682726400-1682899199@racekartsinc.com
SUMMARY:Teen Mazda Challenge - Thunderhill Raceway
DESCRIPTION:Teen Mazda Challenge at Thunderhill Raceway.
URL:https://racekartsinc.com/class/teen-mazda-challenge-thunderhill-raceway-042923/
LOCATION:Thunderhill Raceway\, 5250 CA-162\, Willows\, CA\, 95988\, United States
ORGANIZER;CN="RaceKarts! Inc.":MAILTO:info@racekartsinc.com
END:VEVENT
BEGIN:VEVENT
DTSTART;VALUE=DATE:20230426
DTEND;VALUE=DATE:20230427
DTSTAMP:20260425T034116
CREATED:20220524T180012Z
LAST-MODIFIED:20230319T194732Z
UID:1928-1682467200-1682553599@racekartsinc.com
SUMMARY:Intro. To Karting - Juniors/Teens/Adults - Kart Rentals/ Coaching – Sacramento Area
DESCRIPTION:Intro. To Karting – Juniors/Teens/Adults Kart Rentals/Coaching – Sacramento Area.
URL:https://racekartsinc.com/class/intro-to-karting-juniors-teens-adults-kart-rentals-coaching-sacramento-area-042623/
LOCATION:Sacramento/Davis
ORGANIZER;CN="RaceKarts! Inc.":MAILTO:info@racekartsinc.com
END:VEVENT
END:VCALENDAR