BEGIN:VCALENDAR
VERSION:2.0
PRODID:-//Racekarts! Inc. - ECPv6.15.20//NONSGML v1.0//EN
CALSCALE:GREGORIAN
METHOD:PUBLISH
X-WR-CALNAME:Racekarts! Inc.
X-ORIGINAL-URL:https://racekartsinc.com
X-WR-CALDESC:Events for Racekarts! Inc.
REFRESH-INTERVAL;VALUE=DURATION:PT1H
X-Robots-Tag:noindex
X-PUBLISHED-TTL:PT1H
BEGIN:VTIMEZONE
TZID:America/Los_Angeles
BEGIN:DAYLIGHT
TZOFFSETFROM:-0800
TZOFFSETTO:-0700
TZNAME:PDT
DTSTART:20230312T100000
END:DAYLIGHT
BEGIN:STANDARD
TZOFFSETFROM:-0700
TZOFFSETTO:-0800
TZNAME:PST
DTSTART:20231105T090000
END:STANDARD
BEGIN:DAYLIGHT
TZOFFSETFROM:-0800
TZOFFSETTO:-0700
TZNAME:PDT
DTSTART:20240310T100000
END:DAYLIGHT
BEGIN:STANDARD
TZOFFSETFROM:-0700
TZOFFSETTO:-0800
TZNAME:PST
DTSTART:20241103T090000
END:STANDARD
BEGIN:DAYLIGHT
TZOFFSETFROM:-0800
TZOFFSETTO:-0700
TZNAME:PDT
DTSTART:20250309T100000
END:DAYLIGHT
BEGIN:STANDARD
TZOFFSETFROM:-0700
TZOFFSETTO:-0800
TZNAME:PST
DTSTART:20251102T090000
END:STANDARD
BEGIN:DAYLIGHT
TZOFFSETFROM:-0800
TZOFFSETTO:-0700
TZNAME:PDT
DTSTART:20260308T100000
END:DAYLIGHT
BEGIN:STANDARD
TZOFFSETFROM:-0700
TZOFFSETTO:-0800
TZNAME:PST
DTSTART:20261101T090000
END:STANDARD
END:VTIMEZONE
BEGIN:VEVENT
DTSTART;VALUE=DATE:20250702
DTEND;VALUE=DATE:20250703
DTSTAMP:20260425T062831
CREATED:20250423T011418Z
LAST-MODIFIED:20250423T011618Z
UID:2546-1751414400-1751500799@racekartsinc.com
SUMMARY:Intro. To Karting/Kart Rentals/ Coaching - Juniors/Teens/Adults - Sacramento Area
DESCRIPTION:Intro. To Karting/Kart Rentals/ Coaching – Juniors/Teens/Adults – Sacramento Area
URL:https://racekartsinc.com/class/intro-to-karting-juniors-teens-adults-kart-rentals-coaching-sacramento-area-070225/
LOCATION:Sacramento/Davis
ORGANIZER;CN="RaceKarts! Inc.":MAILTO:info@racekartsinc.com
END:VEVENT
BEGIN:VEVENT
DTSTART;VALUE=DATE:20250625
DTEND;VALUE=DATE:20250626
DTSTAMP:20260425T062832
CREATED:20250423T011056Z
LAST-MODIFIED:20250423T011403Z
UID:2542-1750809600-1750895999@racekartsinc.com
SUMMARY:Intro. To Karting/Kart Rentals/ Coaching - Juniors/Teens/Adults - Sacramento Area
DESCRIPTION:Intro. To Karting/Kart Rentals/ Coaching – Juniors/Teens/Adults – Sacramento Area
URL:https://racekartsinc.com/class/intro-to-karting-juniors-teens-adults-kart-rentals-coaching-sacramento-area-062525/
LOCATION:Sacramento/Davis
ORGANIZER;CN="RaceKarts! Inc.":MAILTO:info@racekartsinc.com
END:VEVENT
BEGIN:VEVENT
DTSTART;VALUE=DATE:20250618
DTEND;VALUE=DATE:20250619
DTSTAMP:20260425T062832
CREATED:20250423T011049Z
LAST-MODIFIED:20250423T011317Z
UID:2541-1750204800-1750291199@racekartsinc.com
SUMMARY:Intro. To Karting/Kart Rentals/ Coaching - Juniors/Teens/Adults - Sacramento Area
DESCRIPTION:Intro. To Karting/Kart Rentals/ Coaching – Juniors/Teens/Adults – Sacramento Area
URL:https://racekartsinc.com/class/intro-to-karting-juniors-teens-adults-kart-rentals-coaching-sacramento-area-061825/
LOCATION:Sacramento/Davis
ORGANIZER;CN="RaceKarts! Inc.":MAILTO:info@racekartsinc.com
END:VEVENT
BEGIN:VEVENT
DTSTART;VALUE=DATE:20250611
DTEND;VALUE=DATE:20250612
DTSTAMP:20260425T062832
CREATED:20250423T011043Z
LAST-MODIFIED:20250423T011125Z
UID:2540-1749600000-1749686399@racekartsinc.com
SUMMARY:Intro. To Karting/Kart Rentals/ Coaching - Juniors/Teens/Adults - Sacramento Area
DESCRIPTION:Intro. To Karting/Kart Rentals/ Coaching – Juniors/Teens/Adults – Sacramento Area
URL:https://racekartsinc.com/class/intro-to-karting-juniors-teens-adults-kart-rentals-coaching-sacramento-area-061125/
LOCATION:Sacramento/Davis
ORGANIZER;CN="RaceKarts! Inc.":MAILTO:info@racekartsinc.com
END:VEVENT
BEGIN:VEVENT
DTSTART;VALUE=DATE:20250604
DTEND;VALUE=DATE:20250605
DTSTAMP:20260425T062832
CREATED:20250423T010942Z
LAST-MODIFIED:20250423T011032Z
UID:2537-1748995200-1749081599@racekartsinc.com
SUMMARY:Intro. To Karting/Kart Rentals/ Coaching - Juniors/Teens/Adults - Sacramento Area
DESCRIPTION:Intro. To Karting/Kart Rentals/ Coaching – Juniors/Teens/Adults – Sacramento Area
URL:https://racekartsinc.com/class/intro-to-karting-juniors-teens-adults-kart-rentals-coaching-sacramento-area-060425/
LOCATION:Sacramento/Davis
ORGANIZER;CN="RaceKarts! Inc.":MAILTO:info@racekartsinc.com
END:VEVENT
BEGIN:VEVENT
DTSTART;VALUE=DATE:20250528
DTEND;VALUE=DATE:20250529
DTSTAMP:20260425T062832
CREATED:20250423T010656Z
LAST-MODIFIED:20250423T010909Z
UID:2533-1748390400-1748476799@racekartsinc.com
SUMMARY:Intro. To Karting/Kart Rentals/ Coaching - Juniors/Teens/Adults - Sacramento Area
DESCRIPTION:Intro. To Karting/Kart Rentals/ Coaching – Juniors/Teens/Adults – Sacramento Area
URL:https://racekartsinc.com/class/intro-to-karting-juniors-teens-adults-kart-rentals-coaching-sacramento-area-052825/
LOCATION:Sacramento/Davis
ORGANIZER;CN="RaceKarts! Inc.":MAILTO:info@racekartsinc.com
END:VEVENT
BEGIN:VEVENT
DTSTART;VALUE=DATE:20250521
DTEND;VALUE=DATE:20250522
DTSTAMP:20260425T062832
CREATED:20250423T010651Z
LAST-MODIFIED:20250423T010839Z
UID:2532-1747785600-1747871999@racekartsinc.com
SUMMARY:Intro. To Karting/Kart Rentals/ Coaching - Juniors/Teens/Adults - Sacramento Area
DESCRIPTION:Intro. To Karting/Kart Rentals/ Coaching – Juniors/Teens/Adults – Sacramento Area
URL:https://racekartsinc.com/class/intro-to-karting-juniors-teens-adults-kart-rentals-coaching-sacramento-area-052125/
LOCATION:Sacramento/Davis
ORGANIZER;CN="RaceKarts! Inc.":MAILTO:info@racekartsinc.com
END:VEVENT
BEGIN:VEVENT
DTSTART;VALUE=DATE:20250514
DTEND;VALUE=DATE:20250515
DTSTAMP:20260425T062832
CREATED:20250423T010646Z
LAST-MODIFIED:20250423T010725Z
UID:2531-1747180800-1747267199@racekartsinc.com
SUMMARY:Intro. To Karting/Kart Rentals/ Coaching - Juniors/Teens/Adults - Sacramento Area
DESCRIPTION:Intro. To Karting/Kart Rentals/ Coaching – Juniors/Teens/Adults – Sacramento Area
URL:https://racekartsinc.com/class/intro-to-karting-juniors-teens-adults-kart-rentals-coaching-sacramento-area-051425/
LOCATION:Sacramento/Davis
ORGANIZER;CN="RaceKarts! Inc.":MAILTO:info@racekartsinc.com
END:VEVENT
BEGIN:VEVENT
DTSTART;VALUE=DATE:20250507
DTEND;VALUE=DATE:20250508
DTSTAMP:20260425T062832
CREATED:20250423T010449Z
LAST-MODIFIED:20250423T010606Z
UID:2528-1746576000-1746662399@racekartsinc.com
SUMMARY:Intro. To Karting/Kart Rentals/ Coaching - Juniors/Teens/Adults - Sacramento Area
DESCRIPTION:Intro. To Karting/Kart Rentals/ Coaching – Juniors/Teens/Adults – Sacramento Area
URL:https://racekartsinc.com/class/intro-to-karting-juniors-teens-adults-kart-rentals-coaching-sacramento-area-050725/
LOCATION:Sacramento/Davis
ORGANIZER;CN="RaceKarts! Inc.":MAILTO:info@racekartsinc.com
END:VEVENT
BEGIN:VEVENT
DTSTART;VALUE=DATE:20250430
DTEND;VALUE=DATE:20250501
DTSTAMP:20260425T062832
CREATED:20240223T190012Z
LAST-MODIFIED:20250422T232208Z
UID:2378-1745971200-1746057599@racekartsinc.com
SUMMARY:Intro. To Karting/Kart Rentals/ Coaching - Juniors/Teens/Adults - Sacramento Area
DESCRIPTION:Intro. To Karting/Kart Rentals/ Coaching – Juniors/Teens/Adults – Sacramento Area
URL:https://racekartsinc.com/class/intro-to-karting-juniors-teens-adults-kart-rentals-coaching-sacramento-area-043025/
LOCATION:Sacramento/Davis
ORGANIZER;CN="RaceKarts! Inc.":MAILTO:info@racekartsinc.com
END:VEVENT
BEGIN:VEVENT
DTSTART;VALUE=DATE:20250423
DTEND;VALUE=DATE:20250424
DTSTAMP:20260425T062832
CREATED:20240223T190012Z
LAST-MODIFIED:20250422T232231Z
UID:2379-1745366400-1745452799@racekartsinc.com
SUMMARY:Intro. To Karting/Kart Rentals/ Coaching - Juniors/Teens/Adults - Sacramento Area
DESCRIPTION:Intro. To Karting/Kart Rentals/ Coaching – Juniors/Teens/Adults – Sacramento Area
URL:https://racekartsinc.com/class/intro-to-karting-juniors-teens-adults-kart-rentals-coaching-sacramento-area-042325/
LOCATION:Sacramento/Davis
ORGANIZER;CN="RaceKarts! Inc.":MAILTO:info@racekartsinc.com
END:VEVENT
BEGIN:VEVENT
DTSTART;VALUE=DATE:20250416
DTEND;VALUE=DATE:20250417
DTSTAMP:20260425T062832
CREATED:20240223T190012Z
LAST-MODIFIED:20250422T232253Z
UID:2380-1744761600-1744847999@racekartsinc.com
SUMMARY:Intro. To Karting/Kart Rentals/ Coaching - Juniors/Teens/Adults - Sacramento Area
DESCRIPTION:Intro. To Karting/Kart Rentals/ Coaching – Juniors/Teens/Adults – Sacramento Area
URL:https://racekartsinc.com/class/intro-to-karting-juniors-teens-adults-kart-rentals-coaching-sacramento-area-041625/
LOCATION:Sacramento/Davis
ORGANIZER;CN="RaceKarts! Inc.":MAILTO:info@racekartsinc.com
END:VEVENT
BEGIN:VEVENT
DTSTART;VALUE=DATE:20250409
DTEND;VALUE=DATE:20250410
DTSTAMP:20260425T062832
CREATED:20240223T190012Z
LAST-MODIFIED:20241220T202542Z
UID:2381-1744156800-1744243199@racekartsinc.com
SUMMARY:Intro. To Karting/Kart Rentals/ Coaching – Juniors/Teens/Adults - Sacramento Area
DESCRIPTION:Intro. To Karting/Kart Rentals/ Coaching – Juniors/Teens/Adults – Sacramento Area
URL:https://racekartsinc.com/class/intro-to-karting-juniors-teens-adults-kart-rentals-coaching-sacramento-area-040925/
LOCATION:Sacramento/Davis
ORGANIZER;CN="RaceKarts! Inc.":MAILTO:info@racekartsinc.com
END:VEVENT
BEGIN:VEVENT
DTSTART;VALUE=DATE:20250402
DTEND;VALUE=DATE:20250403
DTSTAMP:20260425T062832
CREATED:20240223T190012Z
LAST-MODIFIED:20250422T232322Z
UID:2370-1743552000-1743638399@racekartsinc.com
SUMMARY:Intro. To Karting/Kart Rentals/ Coaching - Juniors/Teens/Adults - Sacramento Area
DESCRIPTION:Intro. To Karting/Kart Rentals/ Coaching – Juniors/Teens/Adults – Sacramento Area
URL:https://racekartsinc.com/class/intro-to-karting-juniors-teens-adults-kart-rentals-coaching-sacramento-area-040225/
LOCATION:Sacramento/Davis
ORGANIZER;CN="RaceKarts! Inc.":MAILTO:info@racekartsinc.com
END:VEVENT
BEGIN:VEVENT
DTSTART;VALUE=DATE:20250326
DTEND;VALUE=DATE:20250327
DTSTAMP:20260425T062832
CREATED:20240223T190012Z
LAST-MODIFIED:20250422T232344Z
UID:2371-1742947200-1743033599@racekartsinc.com
SUMMARY:Intro. To Karting/Kart Rentals/ Coaching - Juniors/Teens/Adults - Sacramento Area
DESCRIPTION:Intro. To Karting/Kart Rentals/ Coaching – Juniors/Teens/Adults – Sacramento Area
URL:https://racekartsinc.com/class/intro-to-karting-juniors-teens-adults-kart-rentals-coaching-sacramento-area-032625/
LOCATION:Sacramento/Davis
ORGANIZER;CN="RaceKarts! Inc.":MAILTO:info@racekartsinc.com
END:VEVENT
BEGIN:VEVENT
DTSTART;VALUE=DATE:20250319
DTEND;VALUE=DATE:20250320
DTSTAMP:20260425T062832
CREATED:20240223T190012Z
LAST-MODIFIED:20250422T232404Z
UID:2372-1742342400-1742428799@racekartsinc.com
SUMMARY:Intro. To Karting/Kart Rentals/ Coaching - Juniors/Teens/Adults - Sacramento Area
DESCRIPTION:Intro. To Karting/Kart Rentals/ Coaching – Juniors/Teens/Adults – Sacramento Area
URL:https://racekartsinc.com/class/intro-to-karting-juniors-teens-adults-kart-rentals-coaching-sacramento-area-031925/
LOCATION:Sacramento/Davis
ORGANIZER;CN="RaceKarts! Inc.":MAILTO:info@racekartsinc.com
END:VEVENT
BEGIN:VEVENT
DTSTART;VALUE=DATE:20250312
DTEND;VALUE=DATE:20250313
DTSTAMP:20260425T062832
CREATED:20240223T190012Z
LAST-MODIFIED:20250422T232454Z
UID:2373-1741737600-1741823999@racekartsinc.com
SUMMARY:Intro. To Karting/Kart Rentals/ Coaching - Juniors/Teens/Adults - Sacramento Area
DESCRIPTION:Intro. To Karting/Kart Rentals/ Coaching – Juniors/Teens/Adults – Sacramento Area
URL:https://racekartsinc.com/class/intro-to-karting-juniors-teens-adults-kart-rentals-coaching-sacramento-area-031225/
LOCATION:Sacramento/Davis
ORGANIZER;CN="RaceKarts! Inc.":MAILTO:info@racekartsinc.com
END:VEVENT
BEGIN:VEVENT
DTSTART;VALUE=DATE:20250305
DTEND;VALUE=DATE:20250306
DTSTAMP:20260425T062832
CREATED:20240223T190012Z
LAST-MODIFIED:20250422T232518Z
UID:2368-1741132800-1741219199@racekartsinc.com
SUMMARY:Intro. To Karting/Kart Rentals/ Coaching - Juniors/Teens/Adults - Sacramento Area
DESCRIPTION:Intro. To Karting/Kart Rentals/ Coaching – Juniors/Teens/Adults – Sacramento Area
URL:https://racekartsinc.com/class/intro-to-karting-juniors-teens-adults-kart-rentals-coaching-sacramento-area-030525/
LOCATION:Sacramento/Davis
ORGANIZER;CN="RaceKarts! Inc.":MAILTO:info@racekartsinc.com
END:VEVENT
BEGIN:VEVENT
DTSTART;VALUE=DATE:20250226
DTEND;VALUE=DATE:20250227
DTSTAMP:20260425T062832
CREATED:20240223T190012Z
LAST-MODIFIED:20250422T232537Z
UID:2362-1740528000-1740614399@racekartsinc.com
SUMMARY:Intro. To Karting/Kart Rentals/ Coaching - Juniors/Teens/Adults - Sacramento Area
DESCRIPTION:Intro. To Karting/Kart Rentals/ Coaching – Juniors/Teens/Adults – Sacramento Area
URL:https://racekartsinc.com/class/intro-to-karting-juniors-teens-adults-kart-rentals-coaching-sacramento-area-022625/
LOCATION:Sacramento/Davis
ORGANIZER;CN="RaceKarts! Inc.":MAILTO:info@racekartsinc.com
END:VEVENT
BEGIN:VEVENT
DTSTART;VALUE=DATE:20250219
DTEND;VALUE=DATE:20250220
DTSTAMP:20260425T062832
CREATED:20240223T190012Z
LAST-MODIFIED:20250422T232557Z
UID:2363-1739923200-1740009599@racekartsinc.com
SUMMARY:Intro. To Karting/Kart Rentals/ Coaching - Juniors/Teens/Adults - Sacramento Area
DESCRIPTION:Intro. To Karting/Kart Rentals/ Coaching – Juniors/Teens/Adults – Sacramento Area
URL:https://racekartsinc.com/class/intro-to-karting-juniors-teens-adults-kart-rentals-coaching-sacramento-area-021925/
LOCATION:Sacramento/Davis
ORGANIZER;CN="RaceKarts! Inc.":MAILTO:info@racekartsinc.com
END:VEVENT
BEGIN:VEVENT
DTSTART;VALUE=DATE:20250212
DTEND;VALUE=DATE:20250213
DTSTAMP:20260425T062832
CREATED:20240223T190012Z
LAST-MODIFIED:20250422T232620Z
UID:2364-1739318400-1739404799@racekartsinc.com
SUMMARY:Intro. To Karting/Kart Rentals/ Coaching - Juniors/Teens/Adults - Sacramento Area
DESCRIPTION:Intro. To Karting/Kart Rentals/ Coaching – Juniors/Teens/Adults – Sacramento Area
URL:https://racekartsinc.com/class/intro-to-karting-juniors-teens-adults-kart-rentals-coaching-sacramento-area-021225/
LOCATION:Sacramento/Davis
ORGANIZER;CN="RaceKarts! Inc.":MAILTO:info@racekartsinc.com
END:VEVENT
BEGIN:VEVENT
DTSTART;VALUE=DATE:20250205
DTEND;VALUE=DATE:20250206
DTSTAMP:20260425T062832
CREATED:20240223T190012Z
LAST-MODIFIED:20250422T232648Z
UID:2360-1738713600-1738799999@racekartsinc.com
SUMMARY:Intro. To Karting/Kart Rentals/ Coaching - Juniors/Teens/Adults - Sacramento Area
DESCRIPTION:Intro. To Karting/Kart Rentals/ Coaching – Juniors/Teens/Adults – Sacramento Area
URL:https://racekartsinc.com/class/intro-to-karting-juniors-teens-adults-kart-rentals-coaching-sacramento-area-020525/
LOCATION:Sacramento/Davis
ORGANIZER;CN="RaceKarts! Inc.":MAILTO:info@racekartsinc.com
END:VEVENT
BEGIN:VEVENT
DTSTART;VALUE=DATE:20250129
DTEND;VALUE=DATE:20250130
DTSTAMP:20260425T062832
CREATED:20240223T190012Z
LAST-MODIFIED:20241220T201834Z
UID:2358-1738108800-1738195199@racekartsinc.com
SUMMARY:Intro. To Karting/Kart Rentals/ Coaching – Juniors/Teens/Adults - Sacramento Area
DESCRIPTION:Intro. To Karting/Kart Rentals/ Coaching – Juniors/Teens/Adults – Sacramento Area
URL:https://racekartsinc.com/class/intro-to-karting-juniors-teens-adults-kart-rentals-coaching-sacramento-area-012925/
LOCATION:Sacramento/Davis
ORGANIZER;CN="RaceKarts! Inc.":MAILTO:info@racekartsinc.com
END:VEVENT
BEGIN:VEVENT
DTSTART;VALUE=DATE:20250122
DTEND;VALUE=DATE:20250123
DTSTAMP:20260425T062832
CREATED:20240223T190012Z
LAST-MODIFIED:20250422T232709Z
UID:2352-1737504000-1737590399@racekartsinc.com
SUMMARY:Intro. To Karting/Kart Rentals/ Coaching - Juniors/Teens/Adults - Sacramento Area
DESCRIPTION:Intro. To Karting/Kart Rentals/ Coaching – Juniors/Teens/Adults – Sacramento Area
URL:https://racekartsinc.com/class/intro-to-karting-juniors-teens-adults-kart-rentals-coaching-sacramento-area-012225/
LOCATION:Sacramento/Davis
ORGANIZER;CN="RaceKarts! Inc.":MAILTO:info@racekartsinc.com
END:VEVENT
BEGIN:VEVENT
DTSTART;VALUE=DATE:20250115
DTEND;VALUE=DATE:20250116
DTSTAMP:20260425T062832
CREATED:20240223T190012Z
LAST-MODIFIED:20250422T232731Z
UID:2353-1736899200-1736985599@racekartsinc.com
SUMMARY:Intro. To Karting/Kart Rentals/ Coaching - Juniors/Teens/Adults - Sacramento Area
DESCRIPTION:Intro. To Karting/Kart Rentals/ Coaching – Juniors/Teens/Adults – Sacramento Area
URL:https://racekartsinc.com/class/intro-to-karting-juniors-teens-adults-kart-rentals-coaching-sacramento-area-011525/
LOCATION:Sacramento/Davis
ORGANIZER;CN="RaceKarts! Inc.":MAILTO:info@racekartsinc.com
END:VEVENT
BEGIN:VEVENT
DTSTART;VALUE=DATE:20250108
DTEND;VALUE=DATE:20250109
DTSTAMP:20260425T062832
CREATED:20240223T190012Z
LAST-MODIFIED:20241220T201701Z
UID:2354-1736294400-1736380799@racekartsinc.com
SUMMARY:Intro. To Karting/Kart Rentals/ Coaching – Juniors/Teens/Adults - Sacramento Area
DESCRIPTION:Intro. To Karting/Kart Rentals/ Coaching – Juniors/Teens/Adults – Sacramento Area
URL:https://racekartsinc.com/class/intro-to-karting-juniors-teens-adults-kart-rentals-coaching-sacramento-area-010825/
LOCATION:Sacramento/Davis
ORGANIZER;CN="RaceKarts! Inc.":MAILTO:info@racekartsinc.com
END:VEVENT
BEGIN:VEVENT
DTSTART;VALUE=DATE:20250101
DTEND;VALUE=DATE:20250102
DTSTAMP:20260425T062832
CREATED:20240223T190012Z
LAST-MODIFIED:20241220T201610Z
UID:2349-1735689600-1735775999@racekartsinc.com
SUMMARY:Intro. To Karting/Kart Rentals/ Coaching – Juniors/Teens/Adults - Sacramento Area
DESCRIPTION:Intro. To Karting/Kart Rentals/ Coaching – Juniors/Teens/Adults – Sacramento Area
URL:https://racekartsinc.com/class/intro-to-karting-juniors-teens-adults-kart-rentals-coaching-sacramento-area-010125/
LOCATION:Sacramento/Davis
ORGANIZER;CN="RaceKarts! Inc.":MAILTO:info@racekartsinc.com
END:VEVENT
BEGIN:VEVENT
DTSTART;VALUE=DATE:20241225
DTEND;VALUE=DATE:20241226
DTSTAMP:20260425T062832
CREATED:20240223T190012Z
LAST-MODIFIED:20240817T172946Z
UID:2302-1735084800-1735171199@racekartsinc.com
SUMMARY:Intro. To Karting/Kart Rentals/ Coaching – Juniors/Teens/Adults - Sacramento Area
DESCRIPTION:Intro. To Karting/Kart Rentals/ Coaching – Juniors/Teens/Adults – Sacramento Area. \nChristmas Karting!!
URL:https://racekartsinc.com/class/intro-to-karting-juniors-teens-adults-kart-rentals-coaching-sacramento-area-122524/
LOCATION:Sacramento/Davis
ORGANIZER;CN="RaceKarts! Inc.":MAILTO:info@racekartsinc.com
END:VEVENT
BEGIN:VEVENT
DTSTART;VALUE=DATE:20241218
DTEND;VALUE=DATE:20241219
DTSTAMP:20260425T062832
CREATED:20240223T190012Z
LAST-MODIFIED:20240817T173017Z
UID:2301-1734480000-1734566399@racekartsinc.com
SUMMARY:Intro. To Karting/Kart Rentals/ Coaching – Juniors/Teens/Adults - Sacramento Area
DESCRIPTION:Intro. To Karting/Kart Rentals/ Coaching – Juniors/Teens/Adults – Sacramento Area.
URL:https://racekartsinc.com/class/intro-to-karting-juniors-teens-adults-kart-rentals-coaching-sacramento-area-121824/
LOCATION:Sacramento/Davis
ORGANIZER;CN="RaceKarts! Inc.":MAILTO:info@racekartsinc.com
END:VEVENT
BEGIN:VEVENT
DTSTART;VALUE=DATE:20241211
DTEND;VALUE=DATE:20241212
DTSTAMP:20260425T062832
CREATED:20240223T190012Z
LAST-MODIFIED:20240817T172856Z
UID:2303-1733875200-1733961599@racekartsinc.com
SUMMARY:Intro. To Karting/Kart Rentals/ Coaching – Juniors/Teens/Adults - Sacramento Area
DESCRIPTION:Intro. To Karting/Kart Rentals/ Coaching – Juniors/Teens/Adults – Sacramento Area.
URL:https://racekartsinc.com/class/intro-to-karting-juniors-teens-adults-kart-rentals-coaching-sacramento-area-121124/
LOCATION:Sacramento/Davis
ORGANIZER;CN="RaceKarts! Inc.":MAILTO:info@racekartsinc.com
END:VEVENT
END:VCALENDAR