BEGIN:VCALENDAR
VERSION:2.0
PRODID:-//Racekarts! Inc. - ECPv6.15.20//NONSGML v1.0//EN
CALSCALE:GREGORIAN
METHOD:PUBLISH
X-WR-CALNAME:Racekarts! Inc.
X-ORIGINAL-URL:https://racekartsinc.com
X-WR-CALDESC:Events for Racekarts! Inc.
REFRESH-INTERVAL;VALUE=DURATION:PT1H
X-Robots-Tag:noindex
X-PUBLISHED-TTL:PT1H
BEGIN:VTIMEZONE
TZID:America/Los_Angeles
BEGIN:DAYLIGHT
TZOFFSETFROM:-0800
TZOFFSETTO:-0700
TZNAME:PDT
DTSTART:20230312T100000
END:DAYLIGHT
BEGIN:STANDARD
TZOFFSETFROM:-0700
TZOFFSETTO:-0800
TZNAME:PST
DTSTART:20231105T090000
END:STANDARD
BEGIN:DAYLIGHT
TZOFFSETFROM:-0800
TZOFFSETTO:-0700
TZNAME:PDT
DTSTART:20240310T100000
END:DAYLIGHT
BEGIN:STANDARD
TZOFFSETFROM:-0700
TZOFFSETTO:-0800
TZNAME:PST
DTSTART:20241103T090000
END:STANDARD
BEGIN:DAYLIGHT
TZOFFSETFROM:-0800
TZOFFSETTO:-0700
TZNAME:PDT
DTSTART:20250309T100000
END:DAYLIGHT
BEGIN:STANDARD
TZOFFSETFROM:-0700
TZOFFSETTO:-0800
TZNAME:PST
DTSTART:20251102T090000
END:STANDARD
END:VTIMEZONE
BEGIN:VEVENT
DTSTART;VALUE=DATE:20241002
DTEND;VALUE=DATE:20241003
DTSTAMP:20260425T091539
CREATED:20240223T190012Z
LAST-MODIFIED:20250422T234329Z
UID:2276-1727827200-1727913599@racekartsinc.com
SUMMARY:Intro. To Karting/Kart Rentals/ Coaching - Juniors/Teens/Adults - Sacramento Area
DESCRIPTION:Intro. To Karting/Kart Rentals/ Coaching – Juniors/Teens/Adults – Sacramento Area
URL:https://racekartsinc.com/class/intro-to-karting-juniors-teens-adults-kart-rentals-coaching-sacramento-area-100224/
LOCATION:Sacramento/Davis
ORGANIZER;CN="RaceKarts! Inc.":MAILTO:info@racekartsinc.com
END:VEVENT
BEGIN:VEVENT
DTSTART;VALUE=DATE:20240925
DTEND;VALUE=DATE:20240926
DTSTAMP:20260425T091539
CREATED:20240223T190012Z
LAST-MODIFIED:20250422T234349Z
UID:2272-1727222400-1727308799@racekartsinc.com
SUMMARY:Intro. To Karting/Kart Rentals/ Coaching - Juniors/Teens/Adults - Sacramento Area
DESCRIPTION:Intro. To Karting/Kart Rentals/ Coaching – Juniors/Teens/Adults – Sacramento Area.
URL:https://racekartsinc.com/class/intro-to-karting-juniors-teens-adults-kart-rentals-coaching-sacramento-area-092524/
LOCATION:Sacramento/Davis
ORGANIZER;CN="RaceKarts! Inc.":MAILTO:info@racekartsinc.com
END:VEVENT
BEGIN:VEVENT
DTSTART;VALUE=DATE:20240918
DTEND;VALUE=DATE:20240919
DTSTAMP:20260425T091539
CREATED:20240223T190012Z
LAST-MODIFIED:20250422T234406Z
UID:2273-1726617600-1726703999@racekartsinc.com
SUMMARY:Intro. To Karting/Kart Rentals/ Coaching - Juniors/Teens/Adults - Sacramento Area
DESCRIPTION:Intro. To Karting/Kart Rentals/ Coaching – Juniors/Teens/Adults – Sacramento Area.
URL:https://racekartsinc.com/class/intro-to-karting-juniors-teens-adults-kart-rentals-coaching-sacramento-area-091824/
LOCATION:Sacramento/Davis
ORGANIZER;CN="RaceKarts! Inc.":MAILTO:info@racekartsinc.com
END:VEVENT
BEGIN:VEVENT
DTSTART;VALUE=DATE:20240911
DTEND;VALUE=DATE:20240912
DTSTAMP:20260425T091539
CREATED:20240223T190012Z
LAST-MODIFIED:20250422T234426Z
UID:2269-1726012800-1726099199@racekartsinc.com
SUMMARY:Intro. To Karting/Kart Rentals/ Coaching - Juniors/Teens/Adults - Sacramento Area
DESCRIPTION:Intro. To Karting/Kart Rentals/ Coaching – Juniors/Teens/Adults – Sacramento Area.
URL:https://racekartsinc.com/class/intro-to-karting-juniors-teens-adults-kart-rentals-coaching-sacramento-area-091124/
LOCATION:Sacramento/Davis
ORGANIZER;CN="RaceKarts! Inc.":MAILTO:info@racekartsinc.com
END:VEVENT
BEGIN:VEVENT
DTSTART;VALUE=DATE:20240904
DTEND;VALUE=DATE:20240905
DTSTAMP:20260425T091539
CREATED:20240223T190012Z
LAST-MODIFIED:20250422T234443Z
UID:2268-1725408000-1725494399@racekartsinc.com
SUMMARY:Intro. To Karting/Kart Rentals/ Coaching - Juniors/Teens/Adults - Sacramento Area
DESCRIPTION:Intro. To Karting/Kart Rentals/ Coaching – Juniors/Teens/Adults – Sacramento Area.
URL:https://racekartsinc.com/class/intro-to-karting-juniors-teens-adults-kart-rentals-coaching-sacramento-area-090424/
LOCATION:Sacramento/Davis
ORGANIZER;CN="RaceKarts! Inc.":MAILTO:info@racekartsinc.com
END:VEVENT
BEGIN:VEVENT
DTSTART;VALUE=DATE:20240828
DTEND;VALUE=DATE:20240829
DTSTAMP:20260425T091539
CREATED:20240223T190012Z
LAST-MODIFIED:20250422T234500Z
UID:2220-1724803200-1724889599@racekartsinc.com
SUMMARY:Intro. To Karting/Kart Rentals/ Coaching - Juniors/Teens/Adults - Sacramento Area
DESCRIPTION:Intro. To Karting/Kart Rentals/ Coaching – Juniors/Teens/Adults – Sacramento Area
URL:https://racekartsinc.com/class/intro-to-karting-juniors-teens-adults-kart-rentals-coaching-sacramento-area-082824/
LOCATION:Sacramento/Davis
ORGANIZER;CN="RaceKarts! Inc.":MAILTO:info@racekartsinc.com
END:VEVENT
BEGIN:VEVENT
DTSTART;VALUE=DATE:20240821
DTEND;VALUE=DATE:20240822
DTSTAMP:20260425T091539
CREATED:20240223T190012Z
LAST-MODIFIED:20250422T234517Z
UID:2221-1724198400-1724284799@racekartsinc.com
SUMMARY:Intro. To Karting/Kart Rentals/ Coaching - Juniors/Teens/Adults - Sacramento Area
DESCRIPTION:Intro. To Karting/Kart Rentals/ Coaching – Juniors/Teens/Adults – Sacramento Area
URL:https://racekartsinc.com/class/intro-to-karting-juniors-teens-adults-kart-rentals-coaching-sacramento-area-082124/
LOCATION:Sacramento/Davis
ORGANIZER;CN="RaceKarts! Inc.":MAILTO:info@racekartsinc.com
END:VEVENT
BEGIN:VEVENT
DTSTART;VALUE=DATE:20240814
DTEND;VALUE=DATE:20240815
DTSTAMP:20260425T091539
CREATED:20240223T190012Z
LAST-MODIFIED:20250422T234533Z
UID:2222-1723593600-1723679999@racekartsinc.com
SUMMARY:Intro. To Karting/Kart Rentals/ Coaching - Juniors/Teens/Adults - Sacramento Area
DESCRIPTION:Intro. To Karting/Kart Rentals/ Coaching – Juniors/Teens/Adults – Sacramento Area
URL:https://racekartsinc.com/class/intro-to-karting-juniors-teens-adults-kart-rentals-coaching-sacramento-area-081424/
LOCATION:Sacramento/Davis
ORGANIZER;CN="RaceKarts! Inc.":MAILTO:info@racekartsinc.com
END:VEVENT
BEGIN:VEVENT
DTSTART;VALUE=DATE:20240807
DTEND;VALUE=DATE:20240808
DTSTAMP:20260425T091539
CREATED:20240223T190012Z
LAST-MODIFIED:20250422T234549Z
UID:2218-1722988800-1723075199@racekartsinc.com
SUMMARY:Intro. To Karting/Kart Rentals/ Coaching - Juniors/Teens/Adults - Sacramento Area
DESCRIPTION:Intro. To Karting/Kart Rentals/ Coaching – Juniors/Teens/Adults – Sacramento Area
URL:https://racekartsinc.com/class/intro-to-karting-juniors-teens-adults-kart-rentals-coaching-sacramento-area-080724/
LOCATION:Sacramento/Davis
ORGANIZER;CN="RaceKarts! Inc.":MAILTO:info@racekartsinc.com
END:VEVENT
BEGIN:VEVENT
DTSTART;VALUE=DATE:20240731
DTEND;VALUE=DATE:20240801
DTSTAMP:20260425T091539
CREATED:20240223T190012Z
LAST-MODIFIED:20250422T234605Z
UID:2210-1722384000-1722470399@racekartsinc.com
SUMMARY:Intro. To Karting/Kart Rentals/ Coaching - Juniors/Teens/Adults - Sacramento Area
DESCRIPTION:Intro. To Karting/Kart Rentals/ Coaching – Juniors/Teens/Adults – Sacramento Area
URL:https://racekartsinc.com/class/intro-to-karting-juniors-teens-adults-kart-rentals-coaching-sacramento-area-073124/
LOCATION:Sacramento/Davis
ORGANIZER;CN="RaceKarts! Inc.":MAILTO:info@racekartsinc.com
END:VEVENT
BEGIN:VEVENT
DTSTART;VALUE=DATE:20240724
DTEND;VALUE=DATE:20240725
DTSTAMP:20260425T091539
CREATED:20240223T190012Z
LAST-MODIFIED:20250422T234619Z
UID:2211-1721779200-1721865599@racekartsinc.com
SUMMARY:Intro. To Karting/Kart Rentals/ Coaching - Juniors/Teens/Adults - Sacramento Area
DESCRIPTION:Intro. To Karting/Kart Rentals/ Coaching – Juniors/Teens/Adults – Sacramento Area
URL:https://racekartsinc.com/class/intro-to-karting-juniors-teens-adults-kart-rentals-coaching-sacramento-area-072424/
LOCATION:Sacramento/Davis
ORGANIZER;CN="RaceKarts! Inc.":MAILTO:info@racekartsinc.com
END:VEVENT
BEGIN:VEVENT
DTSTART;VALUE=DATE:20240717
DTEND;VALUE=DATE:20240718
DTSTAMP:20260425T091539
CREATED:20240223T190012Z
LAST-MODIFIED:20250422T234637Z
UID:2212-1721174400-1721260799@racekartsinc.com
SUMMARY:Intro. To Karting/Kart Rentals/ Coaching - Juniors/Teens/Adults - Sacramento Area
DESCRIPTION:Intro. To Karting/Kart Rentals/ Coaching – Juniors/Teens/Adults – Sacramento Area
URL:https://racekartsinc.com/class/intro-to-karting-juniors-teens-adults-kart-rentals-coaching-sacramento-area-071724/
LOCATION:Sacramento/Davis
ORGANIZER;CN="RaceKarts! Inc.":MAILTO:info@racekartsinc.com
END:VEVENT
BEGIN:VEVENT
DTSTART;VALUE=DATE:20240710
DTEND;VALUE=DATE:20240711
DTSTAMP:20260425T091539
CREATED:20240223T190012Z
LAST-MODIFIED:20250422T234658Z
UID:2213-1720569600-1720655999@racekartsinc.com
SUMMARY:Intro. To Karting/Kart Rentals/ Coaching - Juniors/Teens/Adults - Sacramento Area
DESCRIPTION:Intro. To Karting/Kart Rentals/ Coaching – Juniors/Teens/Adults – Sacramento Area
URL:https://racekartsinc.com/class/intro-to-karting-juniors-teens-adults-kart-rentals-coaching-sacramento-area-071024/
LOCATION:Sacramento/Davis
ORGANIZER;CN="RaceKarts! Inc.":MAILTO:info@racekartsinc.com
END:VEVENT
BEGIN:VEVENT
DTSTART;VALUE=DATE:20240703
DTEND;VALUE=DATE:20240704
DTSTAMP:20260425T091539
CREATED:20240223T190012Z
LAST-MODIFIED:20250422T234712Z
UID:2208-1719964800-1720051199@racekartsinc.com
SUMMARY:Intro. To Karting/Kart Rentals/ Coaching - Juniors/Teens/Adults - Sacramento Area
DESCRIPTION:Intro. To Karting/Kart Rentals/ Coaching – Juniors/Teens/Adults – Sacramento Area
URL:https://racekartsinc.com/class/intro-to-karting-juniors-teens-adults-kart-rentals-coaching-sacramento-area-070324/
LOCATION:Sacramento/Davis
ORGANIZER;CN="RaceKarts! Inc.":MAILTO:info@racekartsinc.com
END:VEVENT
BEGIN:VEVENT
DTSTART;VALUE=DATE:20240626
DTEND;VALUE=DATE:20240627
DTSTAMP:20260425T091539
CREATED:20240223T190012Z
LAST-MODIFIED:20250422T234725Z
UID:2202-1719360000-1719446399@racekartsinc.com
SUMMARY:Intro. To Karting/Kart Rentals/ Coaching - Juniors/Teens/Adults - Sacramento Area
DESCRIPTION:Intro. To Karting/Kart Rentals/ Coaching – Juniors/Teens/Adults – Sacramento Area
URL:https://racekartsinc.com/class/intro-to-karting-juniors-teens-adults-kart-rentals-coaching-sacramento-area-062624/
LOCATION:Sacramento/Davis
ORGANIZER;CN="RaceKarts! Inc.":MAILTO:info@racekartsinc.com
END:VEVENT
BEGIN:VEVENT
DTSTART;VALUE=DATE:20240619
DTEND;VALUE=DATE:20240620
DTSTAMP:20260425T091539
CREATED:20240223T190012Z
LAST-MODIFIED:20250422T234742Z
UID:2203-1718755200-1718841599@racekartsinc.com
SUMMARY:Intro. To Karting/Kart Rentals/ Coaching - Juniors/Teens/Adults - Sacramento Area
DESCRIPTION:Intro. To Karting/Kart Rentals/ Coaching – Juniors/Teens/Adults – Sacramento Area
URL:https://racekartsinc.com/class/intro-to-karting-juniors-teens-adults-kart-rentals-coaching-sacramento-area-061924/
LOCATION:Sacramento/Davis
ORGANIZER;CN="RaceKarts! Inc.":MAILTO:info@racekartsinc.com
END:VEVENT
BEGIN:VEVENT
DTSTART;VALUE=DATE:20240612
DTEND;VALUE=DATE:20240613
DTSTAMP:20260425T091539
CREATED:20240223T190012Z
LAST-MODIFIED:20250422T234759Z
UID:2204-1718150400-1718236799@racekartsinc.com
SUMMARY:Intro. To Karting/Kart Rentals/ Coaching - Juniors/Teens/Adults - Sacramento Area
DESCRIPTION:Intro. To Karting/Kart Rentals/ Coaching – Juniors/Teens/Adults – Sacramento Area
URL:https://racekartsinc.com/class/intro-to-karting-juniors-teens-adults-kart-rentals-coaching-sacramento-area-061224/
LOCATION:Sacramento/Davis
ORGANIZER;CN="RaceKarts! Inc.":MAILTO:info@racekartsinc.com
END:VEVENT
BEGIN:VEVENT
DTSTART;VALUE=DATE:20240605
DTEND;VALUE=DATE:20240606
DTSTAMP:20260425T091539
CREATED:20240223T190012Z
LAST-MODIFIED:20250422T234823Z
UID:2200-1717545600-1717631999@racekartsinc.com
SUMMARY:Intro. To Karting/Kart Rentals/ Coaching - Juniors/Teens/Adults - Sacramento Area
DESCRIPTION:Intro. To Karting/Kart Rentals/ Coaching – Juniors/Teens/Adults – Sacramento Area
URL:https://racekartsinc.com/class/intro-to-karting-juniors-teens-adults-kart-rentals-coaching-sacramento-area-060524/
LOCATION:Sacramento/Davis
ORGANIZER;CN="RaceKarts! Inc.":MAILTO:info@racekartsinc.com
END:VEVENT
BEGIN:VEVENT
DTSTART;VALUE=DATE:20240529
DTEND;VALUE=DATE:20240530
DTSTAMP:20260425T091539
CREATED:20240223T190012Z
LAST-MODIFIED:20250422T234843Z
UID:2177-1716940800-1717027199@racekartsinc.com
SUMMARY:Intro. To Karting/Kart Rentals/ Coaching - Juniors/Teens/Adults - Sacramento Area
DESCRIPTION:Intro. To Karting/Kart Rentals/ Coaching – Juniors/Teens/Adults – Sacramento Area
URL:https://racekartsinc.com/class/intro-to-karting-juniors-teens-adults-kart-rentals-coaching-sacramento-area-052924/
LOCATION:Sacramento/Davis
ORGANIZER;CN="RaceKarts! Inc.":MAILTO:info@racekartsinc.com
END:VEVENT
BEGIN:VEVENT
DTSTART;VALUE=DATE:20240522
DTEND;VALUE=DATE:20240523
DTSTAMP:20260425T091539
CREATED:20240223T190012Z
LAST-MODIFIED:20250422T234858Z
UID:2171-1716336000-1716422399@racekartsinc.com
SUMMARY:Intro. To Karting/Kart Rentals/ Coaching - Juniors/Teens/Adults - Sacramento Area
DESCRIPTION:Intro. To Karting/Kart Rentals/ Coaching – Juniors/Teens/Adults – Sacramento Area
URL:https://racekartsinc.com/class/intro-to-karting-juniors-teens-adults-kart-rentals-coaching-sacramento-area-052224/
LOCATION:Sacramento/Davis
ORGANIZER;CN="RaceKarts! Inc.":MAILTO:info@racekartsinc.com
END:VEVENT
BEGIN:VEVENT
DTSTART;VALUE=DATE:20240515
DTEND;VALUE=DATE:20240516
DTSTAMP:20260425T091539
CREATED:20240223T190012Z
LAST-MODIFIED:20250422T234918Z
UID:2172-1715731200-1715817599@racekartsinc.com
SUMMARY:Intro. To Karting/Kart Rentals/ Coaching - Juniors/Teens/Adults - Sacramento Area
DESCRIPTION:Intro. To Karting/Kart Rentals/ Coaching – Juniors/Teens/Adults – Sacramento Area
URL:https://racekartsinc.com/class/intro-to-karting-juniors-teens-adults-kart-rentals-coaching-sacramento-area-051524/
LOCATION:Sacramento/Davis
ORGANIZER;CN="RaceKarts! Inc.":MAILTO:info@racekartsinc.com
END:VEVENT
BEGIN:VEVENT
DTSTART;VALUE=DATE:20240508
DTEND;VALUE=DATE:20240509
DTSTAMP:20260425T091539
CREATED:20240223T190012Z
LAST-MODIFIED:20250422T234936Z
UID:2173-1715126400-1715212799@racekartsinc.com
SUMMARY:Intro. To Karting/Kart Rentals/ Coaching - Juniors/Teens/Adults - Sacramento Area
DESCRIPTION:Intro. To Karting/Kart Rentals/ Coaching – Juniors/Teens/Adults – Sacramento Area
URL:https://racekartsinc.com/class/intro-to-karting-juniors-teens-adults-kart-rentals-coaching-sacramento-area-050824/
LOCATION:Sacramento/Davis
ORGANIZER;CN="RaceKarts! Inc.":MAILTO:info@racekartsinc.com
END:VEVENT
BEGIN:VEVENT
DTSTART;VALUE=DATE:20240501
DTEND;VALUE=DATE:20240502
DTSTAMP:20260425T091539
CREATED:20240223T190012Z
LAST-MODIFIED:20240223T212644Z
UID:2169-1714521600-1714607999@racekartsinc.com
SUMMARY:Intro. To Karting/Kart Rentals/ Coaching – Juniors/Teens/Adults - Sacramento Area
DESCRIPTION:Intro. To Karting/Kart Rentals/ Coaching – Juniors/Teens/Adults – Sacramento Area
URL:https://racekartsinc.com/class/intro-to-karting-juniors-teens-adults-kart-rentals-coaching-sacramento-area-050124/
LOCATION:Sacramento/Davis
ORGANIZER;CN="RaceKarts! Inc.":MAILTO:info@racekartsinc.com
END:VEVENT
BEGIN:VEVENT
DTSTART;VALUE=DATE:20240424
DTEND;VALUE=DATE:20240425
DTSTAMP:20260425T091539
CREATED:20240223T190012Z
LAST-MODIFIED:20240223T212509Z
UID:2163-1713916800-1714003199@racekartsinc.com
SUMMARY:Intro. To Karting/Kart Rentals/ Coaching – Juniors/Teens/Adults - Sacramento Area
DESCRIPTION:Intro. To Karting/Kart Rentals/ Coaching – Juniors/Teens/Adults – Sacramento Area
URL:https://racekartsinc.com/class/intro-to-karting-juniors-teens-adults-kart-rentals-coaching-sacramento-area-042424/
LOCATION:Sacramento/Davis
ORGANIZER;CN="RaceKarts! Inc.":MAILTO:info@racekartsinc.com
END:VEVENT
BEGIN:VEVENT
DTSTART;VALUE=DATE:20240417
DTEND;VALUE=DATE:20240418
DTSTAMP:20260425T091539
CREATED:20240223T190012Z
LAST-MODIFIED:20240223T212442Z
UID:2164-1713312000-1713398399@racekartsinc.com
SUMMARY:Intro. To Karting/Kart Rentals/ Coaching – Juniors/Teens/Adults - Sacramento Area
DESCRIPTION:Intro. To Karting/Kart Rentals/ Coaching – Juniors/Teens/Adults – Sacramento Area
URL:https://racekartsinc.com/class/intro-to-karting-juniors-teens-adults-kart-rentals-coaching-sacramento-area-041724/
LOCATION:Sacramento/Davis
ORGANIZER;CN="RaceKarts! Inc.":MAILTO:info@racekartsinc.com
END:VEVENT
BEGIN:VEVENT
DTSTART;VALUE=DATE:20240410
DTEND;VALUE=DATE:20240411
DTSTAMP:20260425T091539
CREATED:20240223T190012Z
LAST-MODIFIED:20240223T212415Z
UID:2165-1712707200-1712793599@racekartsinc.com
SUMMARY:Intro. To Karting/Kart Rentals/ Coaching – Juniors/Teens/Adults - Sacramento Area
DESCRIPTION:Intro. To Karting/Kart Rentals/ Coaching – Juniors/Teens/Adults – Sacramento Area
URL:https://racekartsinc.com/class/intro-to-karting-juniors-teens-adults-kart-rentals-coaching-sacramento-area-041024/
LOCATION:Sacramento/Davis
ORGANIZER;CN="RaceKarts! Inc.":MAILTO:info@racekartsinc.com
END:VEVENT
BEGIN:VEVENT
DTSTART;VALUE=DATE:20240403
DTEND;VALUE=DATE:20240404
DTSTAMP:20260425T091539
CREATED:20240223T190012Z
LAST-MODIFIED:20240223T212329Z
UID:2161-1712102400-1712188799@racekartsinc.com
SUMMARY:Intro. To Karting/Kart Rentals/ Coaching – Juniors/Teens/Adults - Sacramento Area
DESCRIPTION:Intro. To Karting/Kart Rentals/ Coaching – Juniors/Teens/Adults – Sacramento Area
URL:https://racekartsinc.com/class/intro-to-karting-juniors-teens-adults-kart-rentals-coaching-sacramento-area-040324/
LOCATION:Sacramento/Davis
ORGANIZER;CN="RaceKarts! Inc.":MAILTO:info@racekartsinc.com
END:VEVENT
BEGIN:VEVENT
DTSTART;VALUE=DATE:20240327
DTEND;VALUE=DATE:20240328
DTSTAMP:20260425T091539
CREATED:20240223T190012Z
LAST-MODIFIED:20240223T212244Z
UID:2155-1711497600-1711583999@racekartsinc.com
SUMMARY:Intro. To Karting/Kart Rentals/ Coaching – Juniors/Teens/Adults - Sacramento Area
DESCRIPTION:Intro. To Karting/Kart Rentals/ Coaching – Juniors/Teens/Adults – Sacramento Area
URL:https://racekartsinc.com/class/intro-to-karting-juniors-teens-adults-kart-rentals-coaching-sacramento-area-032724/
LOCATION:Sacramento/Davis
ORGANIZER;CN="RaceKarts! Inc.":MAILTO:info@racekartsinc.com
END:VEVENT
BEGIN:VEVENT
DTSTART;VALUE=DATE:20240320
DTEND;VALUE=DATE:20240321
DTSTAMP:20260425T091539
CREATED:20240223T190012Z
LAST-MODIFIED:20240223T212208Z
UID:2156-1710892800-1710979199@racekartsinc.com
SUMMARY:Intro. To Karting/Kart Rentals/ Coaching – Juniors/Teens/Adults - Sacramento Area
DESCRIPTION:Intro. To Karting/Kart Rentals/ Coaching – Juniors/Teens/Adults – Sacramento Area
URL:https://racekartsinc.com/class/intro-to-karting-juniors-teens-adults-kart-rentals-coaching-sacramento-area-032024/
LOCATION:Sacramento/Davis
ORGANIZER;CN="RaceKarts! Inc.":MAILTO:info@racekartsinc.com
END:VEVENT
BEGIN:VEVENT
DTSTART;VALUE=DATE:20240313
DTEND;VALUE=DATE:20240314
DTSTAMP:20260425T091539
CREATED:20240223T190012Z
LAST-MODIFIED:20240223T212120Z
UID:2157-1710288000-1710374399@racekartsinc.com
SUMMARY:Intro. To Karting/Kart Rentals/ Coaching – Juniors/Teens/Adults - Sacramento Area
DESCRIPTION:Intro. To Karting/Kart Rentals/ Coaching – Juniors/Teens/Adults – Sacramento Area
URL:https://racekartsinc.com/class/intro-to-karting-juniors-teens-adults-kart-rentals-coaching-sacramento-area-031324/
LOCATION:Sacramento/Davis
ORGANIZER;CN="RaceKarts! Inc.":MAILTO:info@racekartsinc.com
END:VEVENT
END:VCALENDAR